BEGIN:VCALENDAR
VERSION:2.0
PRODID:-//Smithers Brewing Co. | Craft Brewery in Smithers, BC - ECPv6.15.17.1//NONSGML v1.0//EN
CALSCALE:GREGORIAN
METHOD:PUBLISH
X-ORIGINAL-URL:https://smithersbrewing.com
X-WR-CALDESC:Events for Smithers Brewing Co. | Craft Brewery in Smithers, BC
REFRESH-INTERVAL;VALUE=DURATION:PT1H
X-Robots-Tag:noindex
X-PUBLISHED-TTL:PT1H
BEGIN:VTIMEZONE
TZID:America/Vancouver
BEGIN:DAYLIGHT
TZOFFSETFROM:-0800
TZOFFSETTO:-0700
TZNAME:PDT
DTSTART:20250309T100000
END:DAYLIGHT
BEGIN:STANDARD
TZOFFSETFROM:-0700
TZOFFSETTO:-0800
TZNAME:PST
DTSTART:20251102T090000
END:STANDARD
BEGIN:DAYLIGHT
TZOFFSETFROM:-0800
TZOFFSETTO:-0700
TZNAME:PDT
DTSTART:20260308T100000
END:DAYLIGHT
BEGIN:STANDARD
TZOFFSETFROM:-0700
TZOFFSETTO:-0800
TZNAME:PST
DTSTART:20261101T090000
END:STANDARD
BEGIN:DAYLIGHT
TZOFFSETFROM:-0800
TZOFFSETTO:-0700
TZNAME:PDT
DTSTART:20270314T100000
END:DAYLIGHT
BEGIN:STANDARD
TZOFFSETFROM:-0700
TZOFFSETTO:-0800
TZNAME:PST
DTSTART:20271107T090000
END:STANDARD
END:VTIMEZONE
BEGIN:VEVENT
DTSTART;TZID=America/Vancouver:20260307T190000
DTEND;TZID=America/Vancouver:20260307T190000
DTSTAMP:20260420T093852
CREATED:20260303T214834Z
LAST-MODIFIED:20260303T215412Z
UID:2735-1772910000-1772910000@smithersbrewing.com
SUMMARY:Steelhead Slalom 2026
DESCRIPTION:Limited spots available. \nGeneral registration opens Jan 1 at 12:00 AM online. \n$40 entry includes race fee and limited edition tee designed by Leeroy at Ranch House Tattoo. \nVisit https://linktr.ee/steelheadslalom for registration\, volunteer opportunities\, web store and more!
URL:https://smithersbrewing.com/event/steelhead-slalom-2026/
LOCATION:Smithers Brewing Co.
CATEGORIES:Party
END:VEVENT
BEGIN:VEVENT
DTSTART;TZID=America/Vancouver:20260317T130000
DTEND;TZID=America/Vancouver:20260317T230000
DTSTAMP:20260420T093852
CREATED:20260310T194319Z
LAST-MODIFIED:20260310T194319Z
UID:2741-1773752400-1773788400@smithersbrewing.com
SUMMARY:St. Patrick's Day Party
DESCRIPTION:Join us all day for live music\, Irish beers and stew\, and festive fun! \nDean Chandler live\, playing all your favorite Irish tunes.\nIrish Stew and sourdough bread from Flake Café. \n1pm – 11pm. No cover.
URL:https://smithersbrewing.com/event/st-patricks-day-party/
LOCATION:Smithers Brewing Co.
CATEGORIES:Day Event
END:VEVENT
BEGIN:VEVENT
DTSTART;TZID=America/Vancouver:20260324T190000
DTEND;TZID=America/Vancouver:20260324T210000
DTSTAMP:20260420T093852
CREATED:20251021T201117Z
LAST-MODIFIED:20260303T184126Z
UID:2514-1774378800-1774386000@smithersbrewing.com
SUMMARY:Trivia Night with Matt & Farley
DESCRIPTION:SBC presents: Trivia Nights! \nWhen: The 3rd Tuesday of every month\nTime: 7pm – 9pm\nDetails: Register your team at the brewery in advance\, spaces are limited. Up to four people per team.\nDonate: Donations are encouraged – all proceeds go to local charities. \nThere are also grand prizes for top scoring teams 🙂
URL:https://smithersbrewing.com/event/trivia-nights/
LOCATION:Smithers Brewing Co.
CATEGORIES:Trivia
END:VEVENT
BEGIN:VEVENT
DTSTART;TZID=America/Vancouver:20260326T190000
DTEND;TZID=America/Vancouver:20260326T210000
DTSTAMP:20260420T093852
CREATED:20260310T193954Z
LAST-MODIFIED:20260310T193954Z
UID:2739-1774551600-1774558800@smithersbrewing.com
SUMMARY:Lesbihonest Comedy Show
DESCRIPTION:Need a laugh? Join us for a night of comedy! \nSmithers Pride presents Lesbihonest with Laura Piccinin. \n19+.\nTickets available at SBC\, $30.
URL:https://smithersbrewing.com/event/lesbihonest-comedy-show/
LOCATION:Smithers Brewing Co.
CATEGORIES:Comedy
END:VEVENT
END:VCALENDAR