BEGIN:VCALENDAR
VERSION:2.0
PRODID:-//Smithers Brewing Co. | Craft Brewery in Smithers, BC - ECPv6.15.17.1//NONSGML v1.0//EN
CALSCALE:GREGORIAN
METHOD:PUBLISH
X-WR-CALNAME:Smithers Brewing Co. | Craft Brewery in Smithers, BC
X-ORIGINAL-URL:https://smithersbrewing.com
X-WR-CALDESC:Events for Smithers Brewing Co. | Craft Brewery in Smithers, BC
REFRESH-INTERVAL;VALUE=DURATION:PT1H
X-Robots-Tag:noindex
X-PUBLISHED-TTL:PT1H
BEGIN:VTIMEZONE
TZID:America/Vancouver
BEGIN:DAYLIGHT
TZOFFSETFROM:-0800
TZOFFSETTO:-0700
TZNAME:PDT
DTSTART:20240310T100000
END:DAYLIGHT
BEGIN:STANDARD
TZOFFSETFROM:-0700
TZOFFSETTO:-0800
TZNAME:PST
DTSTART:20241103T090000
END:STANDARD
BEGIN:DAYLIGHT
TZOFFSETFROM:-0800
TZOFFSETTO:-0700
TZNAME:PDT
DTSTART:20250309T100000
END:DAYLIGHT
BEGIN:STANDARD
TZOFFSETFROM:-0700
TZOFFSETTO:-0800
TZNAME:PST
DTSTART:20251102T090000
END:STANDARD
BEGIN:DAYLIGHT
TZOFFSETFROM:-0800
TZOFFSETTO:-0700
TZNAME:PDT
DTSTART:20260308T100000
END:DAYLIGHT
BEGIN:STANDARD
TZOFFSETFROM:-0700
TZOFFSETTO:-0800
TZNAME:PST
DTSTART:20261101T090000
END:STANDARD
END:VTIMEZONE
BEGIN:VEVENT
DTSTART;TZID=America/Vancouver:20251031T080000
DTEND;TZID=America/Vancouver:20251031T233000
DTSTAMP:20260420T182149
CREATED:20251009T210354Z
LAST-MODIFIED:20251021T192955Z
UID:2496-1761897600-1761953400@smithersbrewing.com
SUMMARY:Halloween at SBC!
DESCRIPTION:SOLD OUT\nJoin us for a spooky dance party on Halloween Night! Featuring DJ A-Bomb\, DadBod\, Alvalanche & Special Guests.\n\nWhen: Friday October 31st\, 8pm to late.\nTickets: $20 @ SBC. More at door if available. 19+ event.
URL:https://smithersbrewing.com/event/halloween-at-sbc/
LOCATION:Smithers Brewing Co.
CATEGORIES:Party
END:VEVENT
END:VCALENDAR