BEGIN:VCALENDAR
VERSION:2.0
PRODID:-//Smithers Brewing Co. | Craft Brewery in Smithers, BC - ECPv6.15.17.1//NONSGML v1.0//EN
CALSCALE:GREGORIAN
METHOD:PUBLISH
X-ORIGINAL-URL:https://smithersbrewing.com
X-WR-CALDESC:Events for Smithers Brewing Co. | Craft Brewery in Smithers, BC
REFRESH-INTERVAL;VALUE=DURATION:PT1H
X-Robots-Tag:noindex
X-PUBLISHED-TTL:PT1H
BEGIN:VTIMEZONE
TZID:America/Vancouver
BEGIN:DAYLIGHT
TZOFFSETFROM:-0800
TZOFFSETTO:-0700
TZNAME:PDT
DTSTART:20240310T100000
END:DAYLIGHT
BEGIN:STANDARD
TZOFFSETFROM:-0700
TZOFFSETTO:-0800
TZNAME:PST
DTSTART:20241103T090000
END:STANDARD
BEGIN:DAYLIGHT
TZOFFSETFROM:-0800
TZOFFSETTO:-0700
TZNAME:PDT
DTSTART:20250309T100000
END:DAYLIGHT
BEGIN:STANDARD
TZOFFSETFROM:-0700
TZOFFSETTO:-0800
TZNAME:PST
DTSTART:20251102T090000
END:STANDARD
BEGIN:DAYLIGHT
TZOFFSETFROM:-0800
TZOFFSETTO:-0700
TZNAME:PDT
DTSTART:20260308T100000
END:DAYLIGHT
BEGIN:STANDARD
TZOFFSETFROM:-0700
TZOFFSETTO:-0800
TZNAME:PST
DTSTART:20261101T090000
END:STANDARD
BEGIN:DAYLIGHT
TZOFFSETFROM:-0800
TZOFFSETTO:-0700
TZNAME:PDT
DTSTART:20270314T100000
END:DAYLIGHT
BEGIN:STANDARD
TZOFFSETFROM:-0700
TZOFFSETTO:-0800
TZNAME:PST
DTSTART:20271107T090000
END:STANDARD
END:VTIMEZONE
BEGIN:VEVENT
DTSTART;TZID=America/Vancouver:20251206T120000
DTEND;TZID=America/Vancouver:20251206T170000
DTSTAMP:20260420T163719
CREATED:20251125T192127Z
LAST-MODIFIED:20251125T192127Z
UID:2566-1765022400-1765040400@smithersbrewing.com
SUMMARY:Christmas on Main @ SBC
DESCRIPTION:Be sure to stop by the brewery on your festive stroll down Main Street! We will have three local vendors on site all afternoon: \nBulkley Valley Hive & Honey > local honey\, soaps\, and more.\nGolden Hour Preserves > Locally made preserves and pickles.\nOak Project Apparel > Clothing/Reforestation company. \nAND take advantage of 20% off SBC merch – hats\, hoodies\, and more! \nSee you there!
URL:https://smithersbrewing.com/event/christmas-on-main-sbc/
LOCATION:Smithers Brewing Co.
CATEGORIES:Day Event
ATTACH;FMTTYPE=image/jpeg:https://smithersbrewing.com/wp-content/uploads/2025/11/Merry-christmas-sale-continues-templates.jpg
END:VEVENT
BEGIN:VEVENT
DTSTART;TZID=America/Vancouver:20251221T140000
DTEND;TZID=America/Vancouver:20251221T170000
DTSTAMP:20260420T163719
CREATED:20251125T193328Z
LAST-MODIFIED:20251209T193844Z
UID:2569-1766325600-1766336400@smithersbrewing.com
SUMMARY:Cozy Winter Painting Workshop with Sarah Belford
DESCRIPTION:Come for a relaxing afternoon of painting hosted at SBC. All supplies provided\, just show up\, grab a beer and get creative!\nSarah will lead your through the basics of acrylic painting a small landscape\, or help you with your own inspiration. \nWhen: Sunday December 21st\, 7pm\nDetails: 20 spots available. No experience needed. One drink of choice included in event price.\nPrice: $45/per person. Sign up in advance at SBC. Cash only.
URL:https://smithersbrewing.com/event/paint-night-with-sarah-belford/
LOCATION:Smithers Brewing Co.
CATEGORIES:Workshop
END:VEVENT
BEGIN:VEVENT
DTSTART;TZID=America/Vancouver:20251226T200000
DTEND;TZID=America/Vancouver:20251227T000000
DTSTAMP:20260420T163719
CREATED:20251222T232239Z
LAST-MODIFIED:20251222T232239Z
UID:2617-1766779200-1766793600@smithersbrewing.com
SUMMARY:Boxing Day Bash!
DESCRIPTION:Don’t miss the return of the Boxing Day Mashup. Featuring Missing Lynx vs. DJ’s ABomb and DadBod.\n\nWhen: December 26th\, 8pm – late at SBC\nPrice: $20 at SBC. More at the door\, if available.
URL:https://smithersbrewing.com/event/boxing-day-bash/
LOCATION:Smithers Brewing Co.
CATEGORIES:Music
END:VEVENT
BEGIN:VEVENT
DTSTART;TZID=America/Vancouver:20260128T190000
DTEND;TZID=America/Vancouver:20260128T210000
DTSTAMP:20260420T163719
CREATED:20251114T221001Z
LAST-MODIFIED:20260106T224449Z
UID:2550-1769626800-1769634000@smithersbrewing.com
SUMMARY:Ok\, Dope. Stand up Comedy Show
DESCRIPTION:Stand up comedy live at SBC! Come hang out for some pints and laughs. \nHeadliner: Adam Christie\nWhen: January 28th.\nTime: Doors 7pm\, Show 8pm.\nTickets: Buy Tickets Online >>
URL:https://smithersbrewing.com/event/ok-dope-stand-up-comedy-show/
LOCATION:Smithers Brewing Co.
CATEGORIES:Comedy
END:VEVENT
BEGIN:VEVENT
DTSTART;TZID=America/Vancouver:20260131T203000
DTEND;TZID=America/Vancouver:20260201T000000
DTSTAMP:20260420T163719
CREATED:20260120T194329Z
LAST-MODIFIED:20260120T194329Z
UID:2686-1769891400-1769904000@smithersbrewing.com
SUMMARY:Snow Boot Ball
DESCRIPTION:Come support Smithers Volunteer Ski Patrol at this retro après ski themed party! \nWhen: Saturday January 31st\, 8:30pm – late.\nTickets: $30\, includes one drink. \nTickets can be purchased at SBC or by emailing recruitment.smithers.skipatrol@gmail.com
URL:https://smithersbrewing.com/event/snow-boot-ball/
LOCATION:Smithers Brewing Co.
CATEGORIES:Party
END:VEVENT
BEGIN:VEVENT
DTSTART;TZID=America/Vancouver:20260214T190000
DTEND;TZID=America/Vancouver:20260214T230000
DTSTAMP:20260420T163719
CREATED:20260127T195239Z
LAST-MODIFIED:20260213T204529Z
UID:2707-1771095600-1771110000@smithersbrewing.com
SUMMARY:Valentine's Jazz Show
DESCRIPTION:Join us for love day and enjoy live jazz music and food! \n*Edit* Cover $45 > includes two drinks and live jazz music from: \nClint Pelletier Trio\nft. Jake Jenne\, Geoff McFarland\nAND a special guest
URL:https://smithersbrewing.com/event/valentines-jazz-show/
LOCATION:Smithers Brewing Co.
CATEGORIES:Music
END:VEVENT
BEGIN:VEVENT
DTSTART;TZID=America/Vancouver:20260221T190000
DTEND;TZID=America/Vancouver:20260222T010000
DTSTAMP:20260420T163719
CREATED:20260203T185815Z
LAST-MODIFIED:20260203T185815Z
UID:2711-1771700400-1771722000@smithersbrewing.com
SUMMARY:Skylark Reborn Fundraiser Party
DESCRIPTION:In collaboration with the Bulkley Valley Backcountry Ski Society\, this fundraiser includes raffle prizes and a DJ dance party. Proceeds go towards the build of the new skylark cabin at Ashman Ridge. \nWhen: Saturday February 21st\, 7pm – late.\nTickets: $25\, purchase in advance at SBC.
URL:https://smithersbrewing.com/event/skylark-reborn-fundraiser-party/
LOCATION:Smithers Brewing Co.
CATEGORIES:Fundraiser,Party
END:VEVENT
BEGIN:VEVENT
DTSTART;TZID=America/Vancouver:20260307T190000
DTEND;TZID=America/Vancouver:20260307T190000
DTSTAMP:20260420T163719
CREATED:20260303T214834Z
LAST-MODIFIED:20260303T215412Z
UID:2735-1772910000-1772910000@smithersbrewing.com
SUMMARY:Steelhead Slalom 2026
DESCRIPTION:Limited spots available. \nGeneral registration opens Jan 1 at 12:00 AM online. \n$40 entry includes race fee and limited edition tee designed by Leeroy at Ranch House Tattoo. \nVisit https://linktr.ee/steelheadslalom for registration\, volunteer opportunities\, web store and more!
URL:https://smithersbrewing.com/event/steelhead-slalom-2026/
LOCATION:Smithers Brewing Co.
CATEGORIES:Party
END:VEVENT
BEGIN:VEVENT
DTSTART;TZID=America/Vancouver:20260317T130000
DTEND;TZID=America/Vancouver:20260317T230000
DTSTAMP:20260420T163719
CREATED:20260310T194319Z
LAST-MODIFIED:20260310T194319Z
UID:2741-1773752400-1773788400@smithersbrewing.com
SUMMARY:St. Patrick's Day Party
DESCRIPTION:Join us all day for live music\, Irish beers and stew\, and festive fun! \nDean Chandler live\, playing all your favorite Irish tunes.\nIrish Stew and sourdough bread from Flake Café. \n1pm – 11pm. No cover.
URL:https://smithersbrewing.com/event/st-patricks-day-party/
LOCATION:Smithers Brewing Co.
CATEGORIES:Day Event
END:VEVENT
BEGIN:VEVENT
DTSTART;TZID=America/Vancouver:20260324T190000
DTEND;TZID=America/Vancouver:20260324T210000
DTSTAMP:20260420T163719
CREATED:20251021T201117Z
LAST-MODIFIED:20260303T184126Z
UID:2514-1774378800-1774386000@smithersbrewing.com
SUMMARY:Trivia Night with Matt & Farley
DESCRIPTION:SBC presents: Trivia Nights! \nWhen: The 3rd Tuesday of every month\nTime: 7pm – 9pm\nDetails: Register your team at the brewery in advance\, spaces are limited. Up to four people per team.\nDonate: Donations are encouraged – all proceeds go to local charities. \nThere are also grand prizes for top scoring teams 🙂
URL:https://smithersbrewing.com/event/trivia-nights/
LOCATION:Smithers Brewing Co.
CATEGORIES:Trivia
END:VEVENT
BEGIN:VEVENT
DTSTART;TZID=America/Vancouver:20260326T190000
DTEND;TZID=America/Vancouver:20260326T210000
DTSTAMP:20260420T163719
CREATED:20260310T193954Z
LAST-MODIFIED:20260310T193954Z
UID:2739-1774551600-1774558800@smithersbrewing.com
SUMMARY:Lesbihonest Comedy Show
DESCRIPTION:Need a laugh? Join us for a night of comedy! \nSmithers Pride presents Lesbihonest with Laura Piccinin. \n19+.\nTickets available at SBC\, $30.
URL:https://smithersbrewing.com/event/lesbihonest-comedy-show/
LOCATION:Smithers Brewing Co.
CATEGORIES:Comedy
END:VEVENT
BEGIN:VEVENT
DTSTART;TZID=America/Vancouver:20260402T190000
DTEND;TZID=America/Vancouver:20260402T210000
DTSTAMP:20260420T163719
CREATED:20250318T191853Z
LAST-MODIFIED:20260324T194406Z
UID:2109-1775156400-1775163600@smithersbrewing.com
SUMMARY:Smithers Cribbage & Beer Society
DESCRIPTION:The first Tuesday of every month.\nGames at 7pm sharp. Be early for sign-up!
URL:https://smithersbrewing.com/event/smithers-cribbage-beer-society/
LOCATION:Smithers Brewing Co.
END:VEVENT
BEGIN:VEVENT
DTSTART;TZID=America/Vancouver:20260403T180000
DTEND;TZID=America/Vancouver:20260403T200000
DTSTAMP:20260420T163719
CREATED:20260324T194259Z
LAST-MODIFIED:20260324T194345Z
UID:2763-1775239200-1775246400@smithersbrewing.com
SUMMARY:40th Annual Schuss Boomer
DESCRIPTION:Hudson Bay Mountain is hosting the 40th Annual Schuss Boomer – a downhill ski race. \nFriday April 3rd 6:00pm – 8:00pm; Pre-party and Check-in at Smithers Brewing Company!  \nFor more information: www.smithersskiclub.com
URL:https://smithersbrewing.com/event/40th-annual-schuss-boomer/
LOCATION:Brewery
CATEGORIES:Fundraiser
END:VEVENT
BEGIN:VEVENT
DTSTART;VALUE=DATE:20260411
DTEND;VALUE=DATE:20260412
DTSTAMP:20260420T163719
CREATED:20260324T194608Z
LAST-MODIFIED:20260324T194608Z
UID:2767-1775865600-1775951999@smithersbrewing.com
SUMMARY:Schnai Day
DESCRIPTION:SBC will be live in the beer tent serving up beer and BBQ all day at the Slush Cup. Be sure to stop by for fun and vibes! \nSaturday April 11th\nHudson Bay Mountain
URL:https://smithersbrewing.com/event/schnai-day/
LOCATION:Hudson Bay Mountain
CATEGORIES:Day Event
END:VEVENT
BEGIN:VEVENT
DTSTART;TZID=America/Vancouver:20260416T150000
DTEND;TZID=America/Vancouver:20260416T180000
DTSTAMP:20260420T163719
CREATED:20260210T212259Z
LAST-MODIFIED:20260410T181124Z
UID:2718-1776351600-1776362400@smithersbrewing.com
SUMMARY:Pop up Honey Refillery w/ Bulkley Valley Hive & Honey
DESCRIPTION:Come hang out with Bulkley Valley Hive & Honey and get your refills! \nWhat will be available: \n🐝 Honey (of course)\n🐝 Lotions\n🐝 Free soap with your refill *while supplies last*
URL:https://smithersbrewing.com/event/pop-up-honey-refillery-w-bulkley-valley-hive-honey/
LOCATION:Smithers Brewing Co.
CATEGORIES:Food
END:VEVENT
BEGIN:VEVENT
DTSTART;TZID=America/Vancouver:20260420T183000
DTEND;TZID=America/Vancouver:20260420T210000
DTSTAMP:20260420T163719
CREATED:20250807T192005Z
LAST-MODIFIED:20260410T182007Z
UID:2383-1776709800-1776718800@smithersbrewing.com
SUMMARY:Paint Night with Martha Wertz
DESCRIPTION:Bring home Spring. Join us for a fun filled paint night with local artist Martha Wertz! A guaranteed good time. \nWhen: Brewery\, 6:30pm – 9:00pm.\nPrice: $45/per person. Price includes all supplies and one drink.\nSign up in advance at SBC. \n 
URL:https://smithersbrewing.com/event/paint-night-with-martha-wertz/
LOCATION:Smithers Brewing Co.
CATEGORIES:Activity,Art
END:VEVENT
BEGIN:VEVENT
DTSTART;TZID=America/Vancouver:20260423T190000
DTEND;TZID=America/Vancouver:20260423T210000
DTSTAMP:20260420T163719
CREATED:20260410T181445Z
LAST-MODIFIED:20260410T181445Z
UID:2786-1776970800-1776978000@smithersbrewing.com
SUMMARY:Playing That Good Country - Blues
DESCRIPTION:Northern BC tour featuring Amy Nelson and Carter Felker. \nLive at SBC.\nDoors open at 7pm\n$15 cover
URL:https://smithersbrewing.com/event/playing-that-good-country-blues/
LOCATION:Smithers Brewing Co.
CATEGORIES:Music
END:VEVENT
BEGIN:VEVENT
DTSTART;TZID=America/Vancouver:20260425T190000
DTEND;TZID=America/Vancouver:20260425T220000
DTSTAMP:20260420T163719
CREATED:20260324T195110Z
LAST-MODIFIED:20260324T195110Z
UID:2772-1777143600-1777154400@smithersbrewing.com
SUMMARY:One man Tragically Hip Cover Band
DESCRIPTION:Live at SBC with singer/songwriter Wayne Kaulbach. \nSaturday April 25th\, 7pm.\n$5 cover at the door.
URL:https://smithersbrewing.com/event/one-man-tragically-hip-cover-band/
LOCATION:Smithers Brewing Co.
CATEGORIES:Music
END:VEVENT
BEGIN:VEVENT
DTSTART;TZID=America/Vancouver:20260428T190000
DTEND;TZID=America/Vancouver:20260428T210000
DTSTAMP:20260420T163719
CREATED:20260410T181714Z
LAST-MODIFIED:20260410T181714Z
UID:2788-1777402800-1777410000@smithersbrewing.com
SUMMARY:Trail Running Film Festival Tour
DESCRIPTION:Presented by Brooks. Film screening at SBC. \nTickets available at SBC. 1 drink is included with admission\, $20\nDoors open at 7pm\, film at 7:30pm.\nPre-film group run at 5:45pm. All fitness levels welcome!
URL:https://smithersbrewing.com/event/trail-running-film-festival-tour/
LOCATION:Smithers Brewing Co.
CATEGORIES:Film
END:VEVENT
BEGIN:VEVENT
DTSTART;VALUE=DATE:20260429
DTEND;VALUE=DATE:20260430
DTSTAMP:20260420T163719
CREATED:20260410T181024Z
LAST-MODIFIED:20260410T181024Z
UID:2783-1777420800-1777507199@smithersbrewing.com
SUMMARY:SBC Presents: Axe Throwing Season Kickoff
DESCRIPTION:In collaboration with Battle Axe – Axe Throwing. \n\nLeague sign up\nBuy a drink\, get 5 free throws\nChamber member specials\, 4-5pm
URL:https://smithersbrewing.com/event/sbc-presents-axe-throwing-season-kickoff/
LOCATION:Smithers Brewing Co.
CATEGORIES:Activity
END:VEVENT
BEGIN:VEVENT
DTSTART;TZID=America/Vancouver:20260502T200000
DTEND;TZID=America/Vancouver:20260502T200000
DTSTAMP:20260420T163719
CREATED:20250325T202200Z
LAST-MODIFIED:20260410T182101Z
UID:2133-1777752000-1777752000@smithersbrewing.com
SUMMARY:DJ Civillian
DESCRIPTION:Join us at the brewery for an epic show and dancy party with DJ Civillian and guests DJ ABomB\, DJ Alvalanche\, and DJ Dad Bod! \nTickets $30\, purchase in advance at SBC. \nAbout Civillian\nEclectic is an understatement when trying to describe the sound of Civillian. While always staying true to his roots in Hip Hop\, his taste and collection have expanded massively to allow him to become a party-rocking chameleon – no situation outside of his scope. Whether it’s the main stage\, an impromptu sunrise set\, house party or underground rave\, Civillian is always prepared. \nComing off a breakout year in 2022 highlighted by a primetime slot at Shambhala Music Festival that created a buzz amongst newcomers and veterans alike\, festival audiences also saw him on the beach at Pachena Bay\, play two sets at Under the Stars\, and perform at both Wicked Woods in the Spring and Fall. With club performances from Calgary to Victoria\, there was no corner of Western Canada or hour in the day where he did not have the people moving. Beyond the stage his wide ranging recorded studio mixes have created a cult like following on SoundCloud\, along with “Blunch’’ his monthly Twitch livestream that has run for 2+ years accruing a loyal fanbase. While always striving to entice the dancefloor with sounds both new and familiar\, his uncanny versatility combined with the biggest grin on the west coast has truly made Civillian a DJ of the people
URL:https://smithersbrewing.com/event/music-dj-civillian/
LOCATION:Smithers Brewing Co.
CATEGORIES:Music
END:VEVENT
END:VCALENDAR