BEGIN:VCALENDAR
VERSION:2.0
PRODID:-//Smithers Brewing Co. | Craft Brewery in Smithers, BC - ECPv6.15.20//NONSGML v1.0//EN
CALSCALE:GREGORIAN
METHOD:PUBLISH
X-WR-CALNAME:Smithers Brewing Co. | Craft Brewery in Smithers, BC
X-ORIGINAL-URL:https://smithersbrewing.com
X-WR-CALDESC:Events for Smithers Brewing Co. | Craft Brewery in Smithers, BC
REFRESH-INTERVAL;VALUE=DURATION:PT1H
X-Robots-Tag:noindex
X-PUBLISHED-TTL:PT1H
BEGIN:VTIMEZONE
TZID:America/Vancouver
BEGIN:DAYLIGHT
TZOFFSETFROM:-0800
TZOFFSETTO:-0700
TZNAME:PDT
DTSTART:20240310T100000
END:DAYLIGHT
BEGIN:STANDARD
TZOFFSETFROM:-0700
TZOFFSETTO:-0800
TZNAME:PST
DTSTART:20241103T090000
END:STANDARD
BEGIN:DAYLIGHT
TZOFFSETFROM:-0800
TZOFFSETTO:-0700
TZNAME:PDT
DTSTART:20250309T100000
END:DAYLIGHT
BEGIN:STANDARD
TZOFFSETFROM:-0700
TZOFFSETTO:-0800
TZNAME:PST
DTSTART:20251102T090000
END:STANDARD
BEGIN:DAYLIGHT
TZOFFSETFROM:-0800
TZOFFSETTO:-0700
TZNAME:PDT
DTSTART:20260308T100000
END:DAYLIGHT
BEGIN:STANDARD
TZOFFSETFROM:-0700
TZOFFSETTO:-0800
TZNAME:PST
DTSTART:20261101T090000
END:STANDARD
END:VTIMEZONE
BEGIN:VEVENT
DTSTART;TZID=America/Vancouver:20250808T073000
DTEND;TZID=America/Vancouver:20250808T213000
DTSTAMP:20260425T033359
CREATED:20250724T193742Z
LAST-MODIFIED:20250724T194302Z
UID:2325-1754638200-1754688600@smithersbrewing.com
SUMMARY:Linda McRae & Northern Line w/ Special Guests North of Nowhere
DESCRIPTION:Linda McRae & Northern Line featuring Scott Atchison (Tuitar/Mandolin/Vocals)\, Mark Thibeault (Guitar/Pedal Steel/Vocals)\, Richard Jenne (Drums/Percussion/Vocals and Ian Olmstead (Bass) met as instructors at Smithers Guitar Camp. North of Nowhere features Michelle Nisbet\, James Powell and Mark Fleming. \n$20 at the door. \n7:30pm
URL:https://smithersbrewing.com/event/linda-mcrae-northern-line-w-special-guests-north-of-nowhere/
LOCATION:Smithers Brewing Co.
CATEGORIES:Music
END:VEVENT
END:VCALENDAR