BEGIN:VCALENDAR
VERSION:2.0
PRODID:-//Smithers Brewing Co. | Craft Brewery in Smithers, BC - ECPv6.15.20//NONSGML v1.0//EN
CALSCALE:GREGORIAN
METHOD:PUBLISH
X-ORIGINAL-URL:https://smithersbrewing.com
X-WR-CALDESC:Events for Smithers Brewing Co. | Craft Brewery in Smithers, BC
REFRESH-INTERVAL;VALUE=DURATION:PT1H
X-Robots-Tag:noindex
X-PUBLISHED-TTL:PT1H
BEGIN:VTIMEZONE
TZID:America/Vancouver
BEGIN:DAYLIGHT
TZOFFSETFROM:-0800
TZOFFSETTO:-0700
TZNAME:PDT
DTSTART:20240310T100000
END:DAYLIGHT
BEGIN:STANDARD
TZOFFSETFROM:-0700
TZOFFSETTO:-0800
TZNAME:PST
DTSTART:20241103T090000
END:STANDARD
BEGIN:DAYLIGHT
TZOFFSETFROM:-0800
TZOFFSETTO:-0700
TZNAME:PDT
DTSTART:20250309T100000
END:DAYLIGHT
BEGIN:STANDARD
TZOFFSETFROM:-0700
TZOFFSETTO:-0800
TZNAME:PST
DTSTART:20251102T090000
END:STANDARD
BEGIN:DAYLIGHT
TZOFFSETFROM:-0800
TZOFFSETTO:-0700
TZNAME:PDT
DTSTART:20260308T100000
END:DAYLIGHT
BEGIN:STANDARD
TZOFFSETFROM:-0700
TZOFFSETTO:-0800
TZNAME:PST
DTSTART:20261101T090000
END:STANDARD
BEGIN:DAYLIGHT
TZOFFSETFROM:-0800
TZOFFSETTO:-0700
TZNAME:PDT
DTSTART:20270314T100000
END:DAYLIGHT
BEGIN:STANDARD
TZOFFSETFROM:-0700
TZOFFSETTO:-0800
TZNAME:PST
DTSTART:20271107T090000
END:STANDARD
END:VTIMEZONE
BEGIN:VEVENT
DTSTART;TZID=America/Vancouver:20260420T183000
DTEND;TZID=America/Vancouver:20260420T210000
DTSTAMP:20260423T032055
CREATED:20250807T192005Z
LAST-MODIFIED:20260410T182007Z
UID:2383-1776709800-1776718800@smithersbrewing.com
SUMMARY:Paint Night with Martha Wertz
DESCRIPTION:Bring home Spring. Join us for a fun filled paint night with local artist Martha Wertz! A guaranteed good time. \nWhen: Brewery\, 6:30pm – 9:00pm.\nPrice: $45/per person. Price includes all supplies and one drink.\nSign up in advance at SBC. \n 
URL:https://smithersbrewing.com/event/paint-night-with-martha-wertz/
LOCATION:Smithers Brewing Co.
CATEGORIES:Activity,Art
END:VEVENT
BEGIN:VEVENT
DTSTART;TZID=America/Vancouver:20250608T193000
DTEND;TZID=America/Vancouver:20250608T203000
DTSTAMP:20260423T032055
CREATED:20250530T180815Z
LAST-MODIFIED:20250530T181429Z
UID:2166-1749411000-1749414600@smithersbrewing.com
SUMMARY:Sunday Drag Bingo
DESCRIPTION:TRANScending hate – Smithers Pride 2025. \nSunday Drag Bingo hosting by Smithers Pride Society. 19+ only. Tickets available on Eventbrite: BUY HERE >>
URL:https://smithersbrewing.com/event/sunday-drag-bingo/
LOCATION:Smithers Brewing Co.
CATEGORIES:Activity
END:VEVENT
BEGIN:VEVENT
DTSTART;TZID=America/Vancouver:20250513T080000
DTEND;TZID=America/Vancouver:20250513T170000
DTSTAMP:20260423T032055
CREATED:20250429T172245Z
LAST-MODIFIED:20250429T172245Z
UID:2156-1747123200-1747155600@smithersbrewing.com
SUMMARY:Trail Running Film Festival
DESCRIPTION:Global tour 2025 presented by Brooks. \nFood truck\, popcorn\, discounted drinks\, prizes\, new gear from McBike! \nAdvanced tickets $25 are available at SBC or by contacting smithers.run.club@gmail.com \nPre-film group run at 5:45pm > arrive early for a special group run with the Smithers Run Club (no ticket required). All fitness levels welcome!
URL:https://smithersbrewing.com/event/trail-running-film-festival/
CATEGORIES:Activity
END:VEVENT
BEGIN:VEVENT
DTSTART;TZID=America/Vancouver:20250505T140000
DTEND;TZID=America/Vancouver:20250505T210000
DTSTAMP:20260423T032055
CREATED:20250429T165902Z
LAST-MODIFIED:20250429T171208Z
UID:2154-1746453600-1746478800@smithersbrewing.com
SUMMARY:Cinco de Mayo
DESCRIPTION:Smithers Brewing Co\, Martha’s Creative Arts and Riverside Kitchen are teaming up again to host Cinco De Mayo on Monday May 5th!\n\nPiñatas for the kids in the afternoon\, latin DJs at 5pm\, Mexican themed beer and tacos from our friends at Riverside Kitchen at 4pm.\n\nAll ages // 2pm- Close // No Cover
URL:https://smithersbrewing.com/event/cinco-de-mayo/
LOCATION:Smithers Brewing Co.
CATEGORIES:Activity,Music
END:VEVENT
BEGIN:VEVENT
DTSTART;TZID=America/Vancouver:20250503T150000
DTEND;TZID=America/Vancouver:20250503T230000
DTSTAMP:20260423T032055
CREATED:20250429T165208Z
LAST-MODIFIED:20250429T165208Z
UID:2152-1746284400-1746313200@smithersbrewing.com
SUMMARY:BV Disc golf Association Fundraiser Party
DESCRIPTION:Bring your friends and family for a fun filled day of disc golf\, music\, putting contest and prizes. This event is perfect for all ages and skill levels. \nLive Music featuring:\nYour Favorite Band\,\nVaporizer 2\nDJ Alvalanche  \nEvent is all ages until 7pm. $10 cover at 8pm. 
URL:https://smithersbrewing.com/event/bv-disc-golf-association-fundraiser-party/
LOCATION:Smithers Brewing Co.
CATEGORIES:Activity,Day Event
END:VEVENT
BEGIN:VEVENT
DTSTART;TZID=America/Vancouver:20250408T190000
DTEND;TZID=America/Vancouver:20250408T210000
DTSTAMP:20260423T032055
CREATED:20250325T171146Z
LAST-MODIFIED:20250325T171146Z
UID:2118-1744138800-1744146000@smithersbrewing.com
SUMMARY:Sip & Paint Night with Martha Wertz
DESCRIPTION:Get in touch with your inner painter! \nSign up in advance at SBC. $40 per person: includes all supplies and a drink. \nProceeds will be donated to support Ukraine families.
URL:https://smithersbrewing.com/event/sip-paint-night-with-martha-wertz/
LOCATION:Smithers Brewing Co.
CATEGORIES:Activity
END:VEVENT
END:VCALENDAR