BEGIN:VCALENDAR
VERSION:2.0
PRODID:-//Smithers Brewing Co. | Craft Brewery in Smithers, BC - ECPv6.15.17.1//NONSGML v1.0//EN
CALSCALE:GREGORIAN
METHOD:PUBLISH
X-WR-CALNAME:Smithers Brewing Co. | Craft Brewery in Smithers, BC
X-ORIGINAL-URL:https://smithersbrewing.com
X-WR-CALDESC:Events for Smithers Brewing Co. | Craft Brewery in Smithers, BC
REFRESH-INTERVAL;VALUE=DURATION:PT1H
X-Robots-Tag:noindex
X-PUBLISHED-TTL:PT1H
BEGIN:VTIMEZONE
TZID:America/Vancouver
BEGIN:DAYLIGHT
TZOFFSETFROM:-0800
TZOFFSETTO:-0700
TZNAME:PDT
DTSTART:20250309T100000
END:DAYLIGHT
BEGIN:STANDARD
TZOFFSETFROM:-0700
TZOFFSETTO:-0800
TZNAME:PST
DTSTART:20251102T090000
END:STANDARD
BEGIN:DAYLIGHT
TZOFFSETFROM:-0800
TZOFFSETTO:-0700
TZNAME:PDT
DTSTART:20260308T100000
END:DAYLIGHT
BEGIN:STANDARD
TZOFFSETFROM:-0700
TZOFFSETTO:-0800
TZNAME:PST
DTSTART:20261101T090000
END:STANDARD
BEGIN:DAYLIGHT
TZOFFSETFROM:-0800
TZOFFSETTO:-0700
TZNAME:PDT
DTSTART:20270314T100000
END:DAYLIGHT
BEGIN:STANDARD
TZOFFSETFROM:-0700
TZOFFSETTO:-0800
TZNAME:PST
DTSTART:20271107T090000
END:STANDARD
END:VTIMEZONE
BEGIN:VEVENT
DTSTART;TZID=America/Vancouver:20260502T200000
DTEND;TZID=America/Vancouver:20260502T200000
DTSTAMP:20260420T093839
CREATED:20250325T202200Z
LAST-MODIFIED:20260410T182101Z
UID:2133-1777752000-1777752000@smithersbrewing.com
SUMMARY:DJ Civillian
DESCRIPTION:Join us at the brewery for an epic show and dancy party with DJ Civillian and guests DJ ABomB\, DJ Alvalanche\, and DJ Dad Bod! \nTickets $30\, purchase in advance at SBC. \nAbout Civillian\nEclectic is an understatement when trying to describe the sound of Civillian. While always staying true to his roots in Hip Hop\, his taste and collection have expanded massively to allow him to become a party-rocking chameleon – no situation outside of his scope. Whether it’s the main stage\, an impromptu sunrise set\, house party or underground rave\, Civillian is always prepared. \nComing off a breakout year in 2022 highlighted by a primetime slot at Shambhala Music Festival that created a buzz amongst newcomers and veterans alike\, festival audiences also saw him on the beach at Pachena Bay\, play two sets at Under the Stars\, and perform at both Wicked Woods in the Spring and Fall. With club performances from Calgary to Victoria\, there was no corner of Western Canada or hour in the day where he did not have the people moving. Beyond the stage his wide ranging recorded studio mixes have created a cult like following on SoundCloud\, along with “Blunch’’ his monthly Twitch livestream that has run for 2+ years accruing a loyal fanbase. While always striving to entice the dancefloor with sounds both new and familiar\, his uncanny versatility combined with the biggest grin on the west coast has truly made Civillian a DJ of the people
URL:https://smithersbrewing.com/event/music-dj-civillian/
LOCATION:Smithers Brewing Co.
CATEGORIES:Music
END:VEVENT
END:VCALENDAR