BEGIN:VCALENDAR
VERSION:2.0
PRODID:-//Smithers Brewing Co. | Craft Brewery in Smithers, BC - ECPv6.15.20//NONSGML v1.0//EN
CALSCALE:GREGORIAN
METHOD:PUBLISH
X-WR-CALNAME:Smithers Brewing Co. | Craft Brewery in Smithers, BC
X-ORIGINAL-URL:https://smithersbrewing.com
X-WR-CALDESC:Events for Smithers Brewing Co. | Craft Brewery in Smithers, BC
REFRESH-INTERVAL;VALUE=DURATION:PT1H
X-Robots-Tag:noindex
X-PUBLISHED-TTL:PT1H
BEGIN:VTIMEZONE
TZID:America/Vancouver
BEGIN:DAYLIGHT
TZOFFSETFROM:-0800
TZOFFSETTO:-0700
TZNAME:PDT
DTSTART:20240310T100000
END:DAYLIGHT
BEGIN:STANDARD
TZOFFSETFROM:-0700
TZOFFSETTO:-0800
TZNAME:PST
DTSTART:20241103T090000
END:STANDARD
BEGIN:DAYLIGHT
TZOFFSETFROM:-0800
TZOFFSETTO:-0700
TZNAME:PDT
DTSTART:20250309T100000
END:DAYLIGHT
BEGIN:STANDARD
TZOFFSETFROM:-0700
TZOFFSETTO:-0800
TZNAME:PST
DTSTART:20251102T090000
END:STANDARD
BEGIN:DAYLIGHT
TZOFFSETFROM:-0800
TZOFFSETTO:-0700
TZNAME:PDT
DTSTART:20260308T100000
END:DAYLIGHT
BEGIN:STANDARD
TZOFFSETFROM:-0700
TZOFFSETTO:-0800
TZNAME:PST
DTSTART:20261101T090000
END:STANDARD
END:VTIMEZONE
BEGIN:VEVENT
DTSTART;TZID=America/Vancouver:20250403T200000
DTEND;TZID=America/Vancouver:20250403T220000
DTSTAMP:20260423T043254
CREATED:20250325T170348Z
LAST-MODIFIED:20250325T170348Z
UID:2116-1743710400-1743717600@smithersbrewing.com
SUMMARY:Music: Danny Bell and his Disappointments
DESCRIPTION:Danny bell and his disappointments live at SBC with Rabbit Soup – a one-man-band-extraordinare! \nDoors open at 7pm\, show at 8pm. \nTickets available at SBC\, $10.
URL:https://smithersbrewing.com/event/music-danny-bell-and-his-disappointments/
LOCATION:Smithers Brewing Co.
CATEGORIES:Music
END:VEVENT
END:VCALENDAR